BEGIN:VCALENDAR
VERSION:2.0
PRODID:-//Missouri 988 - ECPv6.15.17.1//NONSGML v1.0//EN
CALSCALE:GREGORIAN
METHOD:PUBLISH
X-WR-CALNAME:Missouri 988
X-ORIGINAL-URL:https://missouri988.org
X-WR-CALDESC:Events for Missouri 988
REFRESH-INTERVAL;VALUE=DURATION:PT1H
X-Robots-Tag:noindex
X-PUBLISHED-TTL:PT1H
BEGIN:VTIMEZONE
TZID:UTC
BEGIN:STANDARD
TZOFFSETFROM:+0000
TZOFFSETTO:+0000
TZNAME:UTC
DTSTART:20250101T000000
END:STANDARD
END:VTIMEZONE
BEGIN:VEVENT
DTSTART;VALUE=DATE:20260806
DTEND;VALUE=DATE:20260808
DTSTAMP:20260423T141011
CREATED:20260113T142405Z
LAST-MODIFIED:20260204T202310Z
UID:15474-1785974400-1786147199@missouri988.org
SUMMARY:MO Crisis Conference
DESCRIPTION:Join us for our annual Missouri Crisis Conference on August 6-7\, 2026 in Columbia\, Missouri. Registration to come.
URL:https://missouri988.org/event/mo-crisis-conference/
LOCATION:Wyndham Executive Center in Columbia\, MO
ATTACH;FMTTYPE=image/jpeg:https://missouri988.org/wp-content/uploads/2022/10/988-Logo_Stacked_CMYK_White-01.jpg
END:VEVENT
END:VCALENDAR